Workbook

Sheet PASST 2022
A1: (LOGO) | C1: PROGRAMA ANUAL DE SEGURIDAD Y SALUD EN EL TRABAJO | AG1: Codigo:
AG2: Version:
AG3: Fecha:
A4: RAZON SOCIAL O DENOMINACION SOCIAL | C4: RUC | E4: DOMICILIO (Dirección, distrito,departamento, provincia) | H4: ACTIVIDAD ECONOMICA | AG4: Cantida de trabajadores
A7: OBJETIVO GENERAL | B7: OBJETIVO ESPECÍFICO | C7: META | D7: INDICADOR | E7: ACTIVIDADES | F7: RECURSOS | G7: PRESUPUESTO | H7: AÑO 2022 | AF7: % DE CUMPLIMIENTO | AG7: OBSERVACIONES
H8: Ene | J8: Feb | L8: Mar | N8: Abr | P8: May | R8: Jun | T8: Jul | V8: Ago | X8: Set | Z8: Oct | AB8: Nov | AD8: Dic
A9: 1. DOCUMENTACIÓN BASE: MATRICES, MAPAS, PLANES
A10: Elaboración de la documentación Sistema de Gestión de SST | B10: Elaboración continua de la documentación del SGSST | C10: Al 100 % | D10: Documentos elaborador | E10: Proponer mejora de documentos (procedimientos, instrucciones) | F10: Humano | G10: 1300 | N10: P | O10: E | V10: P | W10: E | AF10: =COUNTIF(H10:AE10,"E")/COUNTIF(H10:AE10,"P") -> 1
C11: Al 100 % | D11: Matrices elaboradas | E11: Elaborar/Actualizar las Matrices (IPER, mapas, planes), y documentos relacionados al SGSST | V11: P | W11: E | AF11: =COUNTIF(H11:AE11,"E")/COUNTIF(H11:AE11,"P") -> 1
A12: 2. REQUISITOS LEGALES Y OTROS APLICABLES AL SGSST | C12: META | D12: INDICADOR | E12: ACTIVIDADES | F12: RECURSOS | G12: PRESUPUESTO | H12: AÑO 2022 | AF12: % DE CUMPLIMIENTO | AG12: OBSERVACIONES
H13: Ene | J13: Feb | L13: Mar | N13: Abr | P13: May | R13: Jun | T13: Jul | V13: Ago | X13: Set | Z13: Oct | AB13: Nov | AD13: Dic
A14: Cumplir los requisitos legales vigentes aplicables en seguridad y salud ocupacional | B14: Cumplir con los requisitos legales en cuanto a SST aplicables a la organización | C14: Al 100 % | D14: Lista actualizada | E14: Elaboración de la lista de los Requisitos Legales | V14: P | W14: E | Z14: P | AA14: E | AD14: P | AF14: =COUNTIF(H14:AE14,"E")/COUNTIF(H14:AE14,"P") -> 0.66666667
A15: 4. CAPACITACIÓN, SENSIBILIZACION , DIFUSION Y RECONOCIMIENTO | C15: META | D15: INDICADOR | E15: ACTIVIDADES | F15: RECURSOS | G15: PRESUPUESTO | H15: AÑO 2022 | AF15: % DE CUMPLIMIENTO | AG15: OBSERVACIONES
H16: Ene | J16: Feb | L16: Mar | N16: Abr | P16: May | R16: Jun | T16: Jul | V16: Ago | X16: Set | Z16: Oct | AB16: Nov | AD16: Dic
C17: Al 100 % | E17: Tema 1 | V17: P | W17: E | AB17: P | AF17: =COUNTIF(H17:AE17,"E")/COUNTIF(H17:AE17,"P") -> 0.5
E18: Tema 2 | X18: P | Y18: E | AF18: =COUNTIF(H18:AE18,"E")/COUNTIF(H18:AE18,"P") -> 1
E19: Tema 3 | AB19: P | AC19: E | AD19: P | AF19: =COUNTIF(H19:AE19,"E")/COUNTIF(H19:AE19,"P") -> 0.5
E20: Tema 4 | H20: p | AB20: P | AD20: P | AF20: =COUNTIF(H20:AE20,"E")/COUNTIF(H20:AE20,"P") -> 0
E21: Tema 5 | AB21: P | AD21: P | AF21: =COUNTIF(H21:AE21,"E")/COUNTIF(H21:AE21,"P") -> 0
E22: Tema 6 | AB22: P | AD22: P | AF22: =COUNTIF(H22:AE22,"E")/COUNTIF(H22:AE22,"P") -> 0
E23: Tema 7 | I23: p | AB23: P | AD23: P | AF23: =COUNTIF(H23:AE23,"E")/COUNTIF(H23:AE23,"P") -> 0
E24: Tema 8 | T24: p | AB24: P | AD24: P | AF24: =COUNTIF(H24:AE24,"E")/COUNTIF(H24:AE24,"P") -> 0
E25: Tema 9 | H25: p | O25: p | AB25: P | AD25: P | AF25: =COUNTIF(H25:AE25,"E")/COUNTIF(H25:AE25,"P") -> 0
E26: Tema 10 | AB26: P | AF26: =COUNTIF(H26:AE26,"E")/COUNTIF(H26:AE26,"P") -> 0
E27: Tema 11 | AD27: P | AF27: =COUNTIF(H27:AE27,"E")/COUNTIF(H27:AE27,"P") -> 0
E28: Tema 12 | AD28: P | AF28: =COUNTIF(H28:AE28,"E")/COUNTIF(H28:AE28,"P") -> 0
E29: Tema 13 | V29: P | W29: E | AF29: =COUNTIF(H29:AE29,"E")/COUNTIF(H29:AE29,"P") -> 1
A30: 5. CONTROL OPERACIONAL | C30: META | D30: INDICADOR | E30: ACTIVIDADES | F30: RECURSOS | G30: PRESUPUESTO | H30: AÑO 2022 | AF30: % DE CUMPLIMIENTO | AG30: OBSERVACIONES
H31: Ene | J31: Feb | L31: Mar | N31: Abr | P31: May | R31: Jun | T31: Jul | V31: Ago | X31: Set | Z31: Oct | AB31: Nov | AD31: Dic
A32: Inspecciones SST | B32: Cumplir con la programacion de las inspecciones | C32: 1 | E32: Inspeccion 1 | F32: Humano | G32: 1000 | X32: P | Y32: E | Z32: P | AA32: E | AB32: P | AD32: P | AE32: E | AF32: =COUNTIF(H32:AE32,"E")/COUNTIF(H32:AE32,"P") -> 0.75
E33: Inspeccion 2 | X33: P | Y33: E | Z33: P | AA33: E | AB33: P | AD33: P | AE33: E | AF33: =COUNTIF(H33:AE33,"E")/COUNTIF(H33:AE33,"P") -> 0.75
E34: Inspeccion 3 | J34: p | AB34: P | AD34: P | AE34: E | AF34: =COUNTIF(H34:AE34,"E")/COUNTIF(H34:AE34,"P") -> 0.33333333
E35: Inspeccion 4 | AB35: P | AD35: P | AE35: E | AF35: =COUNTIF(H35:AE35,"E")/COUNTIF(H35:AE35,"P") -> 0.5
E36: Inspeccion 5 | AB36: P | AD36: P | AE36: E | AF36: =COUNTIF(H36:AE36,"E")/COUNTIF(H36:AE36,"P") -> 0.5
E37: Inspeccion 6 | L37: P | N37: P | R37: P | S37: E | T37: P | U37: E | V37: P | W37: E | X37: P | Y37: E | Z37: P | AA37: E | AB37: P | AD37: P | AF37: =COUNTIF(H37:AE37,"E")/COUNTIF(H37:AE37,"P") -> 0.55555556
E38: Inspeccion 7 | X38: P | Y38: E | Z38: P | AA38: E | AB38: P | AD38: P | AF38: =COUNTIF(H38:AE38,"E")/COUNTIF(H38:AE38,"P") -> 0.5
E39: Inspeccion 8 | X39: P | Y39: E | Z39: P | AA39: E | AB39: P | AD39: P | AF39: =COUNTIF(H39:AE39,"E")/COUNTIF(H39:AE39,"P") -> 0.5
E40: Inspeccion 9 | X40: P | Y40: E | Z40: P | AA40: E | AB40: P | AD40: P | AF40: =COUNTIF(H40:AE40,"E")/COUNTIF(H40:AE40,"P") -> 0.5
E41: Inspeccion 10 | X41: P | Y41: E | Z41: P | AA41: E | AB41: P | AD41: P | AF41: =COUNTIF(H41:AE41,"E")/COUNTIF(H41:AE41,"P") -> 0.5
A42: 6. PREPARACIÓN Y RESPUESTA ANTE EMERGENCIA | C42: META | D42: INDICADOR | E42: ACTIVIDADES | F42: RECURSOS | G42: PRESUPUESTO | H42: AÑO 2022 | AF42: % DE CUMPLIMIENTO | AG42: OBSERVACIONES
...

Sheet Grafico
B2: CUMPLIMIENTO GENERAL POR MES DEL PASST
B4: Mes | C4: %
B5: 44562 | C5: =+Hoja4!C11 -> 0.16666667
B6: 44593 | C6: =+Hoja4!C12 -> 0
B7: 44621 | C7: =+Hoja4!C13 -> 0
B8: 44652 | C8: =+Hoja4!C14 -> 0.5
B9: 44682 | C9: =+Hoja4!C15 -> 0.5
B10: 44713 | C10: =+Hoja4!C16 -> 0.33333333
B11: 44743 | C11: =+Hoja4!C17 -> 0.16666667
B12: 44774 | C12: =+Hoja4!C18 -> 0.88888889
B13: 44805 | C13: =+Hoja4!C19 -> 0.9
B14: 44835 | C14: =+Hoja4!C20 -> 0.72727273
B15: 44866 | C15: =+Hoja4!C21 -> 0.17391304
B16: 44896 | C16: =+Hoja4!C22 -> 0.25
B18: Cumplimiento General | C18: =+AVERAGE(C5:C16) -> 0.38389511

Sheet Hoja4
A11: 44562 | B11: 0.1 | C11: {='PASST 2022'!H52:I52} -> 0.16666667 | D11: 0 | E11: =1-C11 -> 0.83333333 | F11: 1.1
A12: 44593 | B12: 0.1 | C12: {=+'PASST 2022'!J52:K52} -> 0 | D12: 0 | E12: =1-C12 -> 1 | F12: 1.1
A13: 44621 | B13: 0.1 | C13: {='PASST 2022'!L52:M52} -> 0 | D13: 0 | E13: =1-C13 -> 1 | F13: 1.1
A14: 44652 | B14: 0.1 | C14: {=+'PASST 2022'!N52:O52} -> 0.5 | D14: 0 | E14: =1-C14 -> 0.5 | F14: 1.1
A15: 44682 | B15: 0.1 | C15: {='PASST 2022'!P52:Q52} -> 0.5 | D15: 0 | E15: =1-C15 -> 0.5 | F15: 1.1
A16: 44713 | B16: 0.1 | C16: {=+'PASST 2022'!R52:S52} -> 0.33333333 | D16: 0 | E16: =1-C16 -> 0.66666667 | F16: 1.1
A17: 44743 | B17: 0.1 | C17: {=+'PASST 2022'!T52:U52} -> 0.16666667 | D17: 0 | E17: =1-C17 -> 0.83333333 | F17: 1.1
A18: 44774 | B18: 0.1 | C18: {=+'PASST 2022'!V52:W52} -> 0.88888889 | D18: 0 | E18: =1-C18 -> 0.11111111 | F18: 1.1
A19: 44805 | B19: 0.1 | C19: {=+'PASST 2022'!X52:Y52} -> 0.9 | D19: 0 | E19: =1-C19 -> 0.1 | F19: 1.1
A20: 44835 | B20: 0.1 | C20: {=+'PASST 2022'!Z52:AA52} -> 0.72727273 | D20: 0 | E20: =1-C20 -> 0.27272727 | F20: 1.1
A21: 44866 | B21: 0.1 | C21: {=+'PASST 2022'!AB52:AC52} -> 0.17391304 | D21: 0 | E21: =1-C21 -> 0.82608696 | F21: 1.1
A22: 44896 | B22: 0.1 | C22: {=+'PASST 2022'!AD52:AE52} -> 0.25 | D22: 0 | E22: =1-C22 -> 0.75 | F22: 1.1
C24: =+AVERAGE(C11:C22) -> 0.38389511 | E24: =1-C24 -> 0.61610489
